BEGIN:VCALENDAR
VERSION:2.0
PRODID:-//Southernmost Illinois Tourism Bureau - ECPv6.15.20//NONSGML v1.0//EN
CALSCALE:GREGORIAN
METHOD:PUBLISH
X-ORIGINAL-URL:https://southernmostillinois.com
X-WR-CALDESC:Events for Southernmost Illinois Tourism Bureau
REFRESH-INTERVAL;VALUE=DURATION:PT1H
X-Robots-Tag:noindex
X-PUBLISHED-TTL:PT1H
BEGIN:VTIMEZONE
TZID:America/Chicago
BEGIN:DAYLIGHT
TZOFFSETFROM:-0600
TZOFFSETTO:-0500
TZNAME:CDT
DTSTART:20240310T080000
END:DAYLIGHT
BEGIN:STANDARD
TZOFFSETFROM:-0500
TZOFFSETTO:-0600
TZNAME:CST
DTSTART:20241103T070000
END:STANDARD
BEGIN:DAYLIGHT
TZOFFSETFROM:-0600
TZOFFSETTO:-0500
TZNAME:CDT
DTSTART:20250309T080000
END:DAYLIGHT
BEGIN:STANDARD
TZOFFSETFROM:-0500
TZOFFSETTO:-0600
TZNAME:CST
DTSTART:20251102T070000
END:STANDARD
BEGIN:DAYLIGHT
TZOFFSETFROM:-0600
TZOFFSETTO:-0500
TZNAME:CDT
DTSTART:20260308T080000
END:DAYLIGHT
BEGIN:STANDARD
TZOFFSETFROM:-0500
TZOFFSETTO:-0600
TZNAME:CST
DTSTART:20261101T070000
END:STANDARD
END:VTIMEZONE
BEGIN:VTIMEZONE
TZID:UTC
BEGIN:STANDARD
TZOFFSETFROM:+0000
TZOFFSETTO:+0000
TZNAME:UTC
DTSTART:20240101T000000
END:STANDARD
END:VTIMEZONE
BEGIN:VEVENT
DTSTART;TZID=America/Chicago:20250607T100000
DTEND;TZID=America/Chicago:20250608T160000
DTSTAMP:20260423T063052
CREATED:20240505T140818Z
LAST-MODIFIED:20250506T154122Z
UID:11473-1749290400-1749398400@southernmostillinois.com
SUMMARY:Shawnee Hills Lavender Upick
DESCRIPTION:Upick lavender farm will be open June 7 & 8\, and June 14 & 15\, 10to 4pm each of these weekend days.  Final season with great sales in the gift shop. \nhttps://www.facebook.com/ShawneeLavender
URL:https://southernmostillinois.com/event/shawnee-hills-lavender-upick-2/
LOCATION:Shawnee Hills Lavender\, 480 Brown Section Rd\, Cobden\, IL\, 62920
END:VEVENT
BEGIN:VEVENT
DTSTART;TZID=America/Chicago:20250607T140000
DTEND;TZID=America/Chicago:20250607T173000
DTSTAMP:20260423T063052
CREATED:20240112T203232Z
LAST-MODIFIED:20250429T175726Z
UID:11284-1749304800-1749317400@southernmostillinois.com
SUMMARY:Grape Stomp - Wichmann Vineyard
DESCRIPTION:Festivities will begin at 2:00 p.m. and end at 5:00 p.m. Every fifteen minutes\, a new set of six stompers will step into our loaded barrels to see how much juice they can push out of the provided grapes. At the end of the day\, the person with the most juice will be crowned the Grape Stomp champion\, receiving a free bottle of Wichmann Vineyard wine and a set of wine glasses. There will also be a kids’ division and a Lucille Look-alike Contest. The Lucille contest winner will also receive a free bottle of wine and a set of wine glasses! Limited charcuterie will be available for purchase\, provided by our good friends at the St. Nicholas Brewing Company. \nChildren under the age of 12 can stomp for $5 and will receive a participation medal designed specifically for this year’s event. \nEvent Details: \nGates open at 1:30 p.m. and sign up for stomping time slots will begin. First come first serve for sign up. Stomping will be 2:00 – 5:00 p.m. with a break in the middle. *Please be near the stomping area at your stomp time \nWe will take a break from stomping and begin our Lucille look-alike contest at 3:30 p.m. \nEvery ticket holder will be provided a wristband at the gate which will allow them to go in and out of the flagged festival area. You will need to make sure you have your wristband on to receive the glass of wine included with ticket purchase (for 21+). *Please return your glass in one of the provided bus tubs upon departure from the festival. \nWe encourage you to bring lawn/camp chairs or blankets for the event. Very limited seating provided. \nOutside alcohol is not permitted.
URL:https://southernmostillinois.com/event/wichmann-vineyard/
LOCATION:Wichmann Vineyard\, 2655 Water Valley Road\, Cobden\, IL\, 62920\, United States
END:VEVENT
BEGIN:VEVENT
DTSTART;TZID=America/Chicago:20250614T100000
DTEND;TZID=America/Chicago:20250615T160000
DTSTAMP:20260423T063052
CREATED:20240505T140818Z
LAST-MODIFIED:20250506T154406Z
UID:11475-1749895200-1750003200@southernmostillinois.com
SUMMARY:Shawnee Hills Lavender Upick
DESCRIPTION:Upick lavender farm will be open June 14-15.  Each of these weekend days the hours will be 10 am to 4 pm. Final season with great sales in the gift shop. \nhttps://www.facebook.com/ShawneeLavender
URL:https://southernmostillinois.com/event/shawnee-hills-lavender-upick-3/
LOCATION:Shawnee Hills Lavender\, 480 Brown Section Rd\, Cobden\, IL\, 62920
END:VEVENT
BEGIN:VEVENT
DTSTART;TZID=UTC:20250615T183000
DTEND;TZID=UTC:20250615T203000
DTSTAMP:20260423T063052
CREATED:20200123T021914Z
LAST-MODIFIED:20250429T165223Z
UID:11704-1750012200-1750019400@southernmostillinois.com
SUMMARY:Fathers Day Sunset Paddle on the Cache
DESCRIPTION:?The perfect Father’s Day activity. What better way to spend Father’s Day than being greeted by the sounds of wildlife in the Cache at sunset. We will launch from the boathouse\, and paddle for about 2 hours\, stopping along beaver lodges\, ancient cypress groves and hearing about the rivers historic past. \nLocation: Cache Bayou Outfitters \n240 Dean Lane\, Ullin\, Illinois\, 62992 \n$55 for Adults 18-up \n$23 for Teens 12-17 \n$18 for Youth 5-11
URL:https://southernmostillinois.com/event/paddle-the-cache/
END:VEVENT
BEGIN:VEVENT
DTSTART;VALUE=DATE:20250620
DTEND;VALUE=DATE:20250622
DTSTAMP:20260423T063052
CREATED:20240430T194002Z
LAST-MODIFIED:20250502T210643Z
UID:13756-1750377600-1750550399@southernmostillinois.com
SUMMARY:CONFERENCE ON CRIMINAL JUSTICE
DESCRIPTION:This is a dynamic gathering of professionals\, advocates\, scholars\, and community members dedicated to examining critical issues in the criminal justice system. This conference provides a platform for discussions on policy reform\, reentry programs\, restorative justice\, and innovative solutions to address incarceration and community safety. Featuring expert panels\, keynote speakers\, and interactive workshops\, attendees will engage in meaningful dialogue about challenges and advancements in the field. \nFree\, But please register here:  https://docs.google.com/forms/d/e/1FAIpQLSdX7ebwjao8HbRor5OldRRcQjnL4n_CxjG4KB4aq-ygHqAqHQ/viewform
URL:https://southernmostillinois.com/event/conference-on-criminal-justice/
LOCATION:Shawnee Community College\, 8364 Shawnee College Rd\, Ullin\, Illinois\, 62992
END:VEVENT
BEGIN:VEVENT
DTSTART;TZID=UTC:20250621T100000
DTEND;TZID=UTC:20250621T120000
DTSTAMP:20260423T063052
CREATED:20200123T020655Z
LAST-MODIFIED:20250207T181542Z
UID:6212-1750500000-1750507200@southernmostillinois.com
SUMMARY:You Too Can Canoe!-Lake Murphysboro State Park
DESCRIPTION:Join the Giant City State Park Naturalist at Lake Murphysboro State Park for a fun morning of a casual paddle around the lake. This program will include a brief overview of kayak safety\, techniques\, and on the water opportunities for wildlife observation. This will be a guided kayak experience for anyone 13 years and older. All equipment will be provided but space is limited and registration is required for this free program. Please call 618-457-4836 to register.
URL:https://southernmostillinois.com/event/canoe/
END:VEVENT
BEGIN:VEVENT
DTSTART;VALUE=DATE:20250704
DTEND;VALUE=DATE:20250705
DTSTAMP:20260423T063052
CREATED:20200109T005641Z
LAST-MODIFIED:20250417T211213Z
UID:5836-1751587200-1751673599@southernmostillinois.com
SUMMARY:Freedom Fest - Goreville
DESCRIPTION:Goreville park. Freedom Run/Walk 5K Race\, Parade at 4pm music & other entertainment\, BBQ and other food\, fireworks at 9pm  618-995-2157 https://www.facebook.com/villageofgorevillefreedomfest \n 
URL:https://southernmostillinois.com/event/freedom-fest/
END:VEVENT
BEGIN:VEVENT
DTSTART;TZID=America/Chicago:20250704T170000
DTEND;TZID=America/Chicago:20250704T210000
DTSTAMP:20260423T063052
CREATED:20240601T145048Z
LAST-MODIFIED:20250617T183700Z
UID:12609-1751648400-1751662800@southernmostillinois.com
SUMMARY:Equality Park Fireworks Festival
DESCRIPTION:Cardinal Park 5pm-dark\nFood & Drinks\, Music\nFireworks Show\nMusic by Old School Band\nFood by Equality Cardinal Park\nConcession Stand Opens at 5pm\, Cake Walk at 6:30pm\nDrawings at 7:00 pm & Fireworks at Dark. \nBring your friends\, family and lawn chairs. \nEquality IL 62934
URL:https://southernmostillinois.com/event/equality-park-fireworks-festival/
END:VEVENT
BEGIN:VEVENT
DTSTART;TZID=America/Chicago:20250704T190000
DTEND;TZID=America/Chicago:20250704T220000
DTSTAMP:20260423T063052
CREATED:20240528T205747Z
LAST-MODIFIED:20250620T153355Z
UID:9828-1751655600-1751666400@southernmostillinois.com
SUMMARY:4th of July Fireworks - Harrisburg\, IL
DESCRIPTION:City of Harrisburg 4th of July Celebration at Fireworks at Harrisburg Ampitheater\, \, 121Carl Hustedde 7:00-9:00 pm\nFree Parking on City Property\nFireworks begin at Dusk\nÂ City Hall at 618.253.7451
URL:https://southernmostillinois.com/event/harrisburg-il/
END:VEVENT
BEGIN:VEVENT
DTSTART;TZID=America/Chicago:20250704T210000
DTEND;TZID=America/Chicago:20250705T220000
DTSTAMP:20260423T063052
CREATED:20230225T175951Z
LAST-MODIFIED:20250623T201158Z
UID:13250-1751662800-1751752800@southernmostillinois.com
SUMMARY:Carbondale Fireworks
DESCRIPTION:Fireworks display on SIU campus will take place on Friday\, July 4\, at 9:15 p.m. \nFor the best viewing\, spectators are advised to park in Banterra Center parking lots 18 and 56. Overflow parking will be directed to lot 89\, north of the Banterra Center. It is recommended to arrive early\, as the main parking lots are usually full and closed by 9 p.m. \nWhile waiting for the fireworks to begin\, enjoy an array of delicious treats from our fantastic vendors\, including Honeybeez Snowballz offering their classic sno-cones as well as nachos\, hot dogs\, & cake balls\, the iconic American Ice Cream Truck\, and Pelzer’s Tropical Sno’s ultimate delight of shaved ice. \nPlease refer to the SIU parking map at https://parking.siu.edu/_common/documents/fy24-rules-and-regs-map.pdf  for more information on lot locations and handicap accessible spots. \nRoad closures will start at 6 p.m.\, including parking lots 37 and 52. Cars must be cleared from these areas by 6 p.m. Douglas Drive and Saluki Drive will be closed from Evergreen to Lincoln\, and from Douglas to Arena Drive\, until after the fireworks display. \nParking along Route 51 or other roadways for viewing purposes is prohibited. \nIn the event of rain\, the fireworks display will be postponed to Saturday\, July 5\, at 9:15 p.m. \nFor further details\, please contact the City of Carbondale at 618-713-0711.
URL:https://southernmostillinois.com/event/carbondale-2/
END:VEVENT
BEGIN:VEVENT
DTSTART;TZID=America/Chicago:20250705T170000
DTEND;TZID=America/Chicago:20250705T220000
DTSTAMP:20260423T063052
CREATED:20220421T163034Z
LAST-MODIFIED:20250626T142016Z
UID:11399-1751734800-1751752800@southernmostillinois.com
SUMMARY:Murphysboro Independence Day Celebration
DESCRIPTION:Join us as we celebrate freedom at our annual Fourth of July Celebration at our beautiful Riverside Park featuring:\n\nLive music on the shell:\n\nFollowed by fireworks show at Dark!\nfood will be available for purchase from a variety of vendors
URL:https://southernmostillinois.com/event/murphysboro/
LOCATION:Riverside Park\, 2640 W Riverside Park Rd\, Murphysboro\, Illinois\, 62966
END:VEVENT
BEGIN:VEVENT
DTSTART;TZID=America/Chicago:20250719T100000
DTEND;TZID=America/Chicago:20250719T180000
DTSTAMP:20260423T063052
CREATED:20240308T230349Z
LAST-MODIFIED:20250417T205201Z
UID:13959-1752919200-1752948000@southernmostillinois.com
SUMMARY:Southern Illinois Made Expo
DESCRIPTION:Exhibitors from all over the region will display and sell their innovative products\, unique creations\, and tasty treats and showcase fabulous Southern Illinois destinations. The event is open to the general public giving everyone the opportunity to experience firsthand the quality of unique products made by Southern Illinois artists\, designers\, and manufacturers and the beauty of Southern Illinois destinations.  Held at the Pavilion\, 1602 Sioux Drive\, Marion\, IL.   https://www.facebook.com/SIMadeExpo/ \n\n\n 
URL:https://southernmostillinois.com/event/southern-illinois-made-expo/
END:VEVENT
BEGIN:VEVENT
DTSTART;TZID=UTC:20250719T130000
DTEND;TZID=UTC:20250719T143000
DTSTAMP:20260423T063052
CREATED:20250109T004424Z
LAST-MODIFIED:20250704T015744Z
UID:5822-1752930000-1752935400@southernmostillinois.com
SUMMARY:Hiking with Shawn at Fort Massac
DESCRIPTION:Fort Massac Hiking Safety Program at at Fort Massac State Park in Metropolis\, Illinois on July 19\, 2025\, at 1:00 PM \nA program on Summer Hiking Safety in Southern Illinois. \nThis program will be geared for children and adults so be sure to bring your kids\, too. \nWe’ll talk about hiking safety\, identifying poison ivy\, encountering wildlife\, and enjoying Southern Illinois outdoor recreation during the summer months.  We might be able to even go on a little hike through the park. \nThis program is FREE to anyone who wishes to attend. 618-524-9321
URL:https://southernmostillinois.com/event/at-fort-massac/
LOCATION:Fort Massac State Park\, 1308 5th St\, Metropolis\, IL\, 62995\, United States
END:VEVENT
BEGIN:VEVENT
DTSTART;VALUE=DATE:20250727
DTEND;VALUE=DATE:20250803
DTSTAMP:20260423T063052
CREATED:20240613T170221Z
LAST-MODIFIED:20250722T152229Z
UID:9652-1753574400-1754179199@southernmostillinois.com
SUMMARY:Pulaski County Fair
DESCRIPTION:Tractor pulls\, demo derby\, entertainment\, livestock show\, parade and exhibits.Â  Â Pulaski\, IL. \nhttps://www.facebook.com/pages/Pulaski-County-Fair-Association/531286367047189
URL:https://southernmostillinois.com/event/pulaski-county-fair/
END:VEVENT
BEGIN:VEVENT
DTSTART;TZID=America/Chicago:20250802T090000
DTEND;TZID=America/Chicago:20250802T150000
DTSTAMP:20260423T063052
CREATED:20250609T150618Z
LAST-MODIFIED:20250720T174545Z
UID:18744-1754125200-1754146800@southernmostillinois.com
SUMMARY:Doggie Day on the Deck at the Branch Cafe and Market
DESCRIPTION:Located in the Historic district of Carbondale\, Bring your dog to the Branch Cafe & Market for a fun-filled day celebrating your furry friends. You can enjoy our new menu\, with free pup-cups and dog treats\, a Dog Costume Contest\, and a Dog Parade! Kids are welcome and will have fun too making balloon animals. Winner of the costume contest announced at 1pm\, so be sure to come before then : ) This is a free event open to the public.\nCome hang out and enjoy a fun day with us! 100 E. Jackson Street\, Carbondale\, IL 62901.
URL:https://southernmostillinois.com/event/day-on-the-deck-at-the-branch-cafe-and-market/
END:VEVENT
BEGIN:VEVENT
DTSTART;TZID=America/Chicago:20250807T183000
DTEND;TZID=America/Chicago:20250807T203000
DTSTAMP:20260423T063052
CREATED:20250217T191437Z
LAST-MODIFIED:20250728T160737Z
UID:18346-1754591400-1754598600@southernmostillinois.com
SUMMARY:Sunset Concert Series - Murphysboro
DESCRIPTION:Live music every Thursday evening in August. \nCarl Lee Park\, 1818 Walnut Street\, Murphysboro\, IL
URL:https://southernmostillinois.com/event/murphysboro-2/
END:VEVENT
BEGIN:VEVENT
DTSTART;TZID=UTC:20250808T163000
DTEND;TZID=UTC:20250809T220000
DTSTAMP:20260423T063052
CREATED:20200109T011349Z
LAST-MODIFIED:20250417T215019Z
UID:5847-1754670600-1754776800@southernmostillinois.com
SUMMARY:Cobden Peach Festival
DESCRIPTION:Sponsored by the Cobden Lions Club\, this evening celebration of the Peach Harvest features carnival rides and games\, Peach Queen Contest\, food and peach cobbler on Fri and Sat. evening.  Parade begins at 4:30 on Sat.  A 5K run/walk is offered on Sat. morning. Free admission. 618-893-2425
URL:https://southernmostillinois.com/event/cobden-peach-festival/
ATTACH;FMTTYPE=image/jpeg:https://southernmostillinois.com/wp-content/uploads/2020/01/sliced-peach.jpg
END:VEVENT
BEGIN:VEVENT
DTSTART;TZID=America/Chicago:20250809T180000
DTEND;TZID=America/Chicago:20250809T210000
DTSTAMP:20260423T063052
CREATED:20240621T172714Z
LAST-MODIFIED:20250731T182828Z
UID:13864-1754762400-1754773200@southernmostillinois.com
SUMMARY:Off The Rails Concert Series - Carbondale
DESCRIPTION:Join us at the Downtown Entertainment and Events Plaza for free outdoor concerts\, running August through October\, featuring local and regional entertainers. We are pleased to share that construction will be undergoing during this time to implement the new permanent stage within the Downtown Entertainment and Events Plaza\, but this will not impede upon the concerts occurring this year in this space.\nThis family-friendly series\, open to all ages\, features food trucks & vendors as well as music. \nDowntown Entertainment & Events Plaza on Washington Street\, with music from 6-9 PM. As we are undergoing construction of our permanent venue within the Downtown Entertainment & Events Plaza\, a portable stage will be on the South end of the parking lot.   Remember to bring your own chair and enjoy the food trucks and vendors as you take in the music and lively atmosphere. To learn more stay tuned to the Carbondale IL Tourism FaceBook page for more details!\nFor more information contact Public Relations Officer at 618-713-0711.
URL:https://southernmostillinois.com/event/summer-sunset-concert-series-carbondale/
END:VEVENT
BEGIN:VEVENT
DTSTART;VALUE=DATE:20250815
DTEND;VALUE=DATE:20250824
DTSTAMP:20260423T063052
CREATED:20230802T150303Z
LAST-MODIFIED:20250722T153420Z
UID:11936-1755216000-1755993599@southernmostillinois.com
SUMMARY:Union County Fair - Anna
DESCRIPTION:This area county fair features\, livestock & horse shows\, an exhibit hall with various exhibits\, a carnival and grandstand shows that include\, demo derby\, tractor pulls\, rodeo\, pageants and harness racing.Â  (618) 833-8923
URL:https://southernmostillinois.com/event/union-county-fair-anna/
LOCATION:Union County Fairgrounds\, 185 Herman Wright Dr\, Anna\, IL\, 62906
END:VEVENT
BEGIN:VEVENT
DTSTART;TZID=UTC:20250816T080000
DTEND;TZID=UTC:20250816T160000
DTSTAMP:20260423T063052
CREATED:20240109T015203Z
LAST-MODIFIED:20250502T211621Z
UID:5895-1755331200-1755360000@southernmostillinois.com
SUMMARY:African American Women's Health Conference
DESCRIPTION:This is a vital event dedicated to addressing the unique health challenges and wellness needs of African American women. This conference brings together medical experts\, community leaders\, and wellness advocates to provide education\, resources\, and strategies for improving physical\, mental\, and emotional well-being. Attendees will engage in insightful discussions\, interactive workshops\, and networking opportunities focused on preventive care\, health disparities\, and holistic wellness. Celebrating 15 years of impact\, this event continues to empower women with knowledge and tools to take charge of their health. \nLocation: Shawnee Community College\, Ullin Illinois\nDoors Open: 8:00 AM | Program Begins: 10:00 AM
URL:https://southernmostillinois.com/event/womens-health-conference/
LOCATION:Shawnee Community College\, 8364 Shawnee College Rd\, Ullin\, Illinois\, 62992
END:VEVENT
BEGIN:VEVENT
DTSTART;TZID=America/Chicago:20250823T180000
DTEND;TZID=America/Chicago:20250823T210000
DTSTAMP:20260423T063052
CREATED:20240707T202852Z
LAST-MODIFIED:20250731T182952Z
UID:16135-1755972000-1755982800@southernmostillinois.com
SUMMARY:Off the Rails Concert - Carbondale
DESCRIPTION:Join us at the Downtown Entertainment and Events Plaza for free outdoor concerts\, running August through October\, featuring local and regional entertainers. We are pleased to share that construction will be undergoing during this time to implement the new permanent stage within the Downtown Entertainment and Events Plaza\, but this will not impede upon the concerts occurring this year in this space.\nThis family-friendly series\, open to all ages\, features food trucks & vendors as well as music. \nDowntown Entertainment & Events Plaza on Washington Street\, with music from 6-9 PM. As we are undergoing construction of our permanent venue within the Downtown Entertainment & Events Plaza\, a portable stage will be on the South end of the parking lot.   Remember to bring your own chair and enjoy the food trucks and vendors as you take in the music and lively atmosphere. To learn more stay tuned to the Carbondale IL Tourism FaceBook page for more details!\nFor more information contact Public Relations Officer at 618-713-0711.
URL:https://southernmostillinois.com/event/concert-carbondale/
END:VEVENT
BEGIN:VEVENT
DTSTART;TZID=America/Chicago:20250831T120000
DTEND;TZID=America/Chicago:20250831T220000
DTSTAMP:20260423T063052
CREATED:20230819T192254Z
LAST-MODIFIED:20250731T184605Z
UID:9672-1756641600-1756677600@southernmostillinois.com
SUMMARY:Smooth Jazz Festival
DESCRIPTION:A free event sponsored by the Harold S. Jones Fine Arts Center. Guest are welcomed and encouraged to bring their own lawn chairs and blankets to ensure an enjoyable experience. This is a day that strives to bring the soulful sounds of jazz to Cairo\, IL. For more information  618-306-5785 \nCairo Regional Airport\, 15622 Airport Rd \, Cairo\, IL. \nSTARRING:\nMichaele Postell – Vocalist – 1:00PM The Claire Maue Quartet – 3:00PM Paducah Jazz Patrol – 5:00PM\nDr. Felipe Brito – Trombonist – 7:00PM Malia Jones – Vocalist – 8:30PM \n  \n 
URL:https://southernmostillinois.com/event/smooth-jazz/
END:VEVENT
BEGIN:VEVENT
DTSTART;VALUE=DATE:20250901
DTEND;VALUE=DATE:20250902
DTSTAMP:20260423T063052
CREATED:20240615T151612Z
LAST-MODIFIED:20250813T181036Z
UID:17051-1756684800-1756771199@southernmostillinois.com
SUMMARY:Memory Lane Auto-Tractor Fest - Harrisburg
DESCRIPTION:Labor Day\, Monday Sept. 1\, 2025 at Saline County Fairgrounds\, Harrisburg\, Il 62946. North edge of Harrisburg on Rt. 34\n14th Annual Memory Lane Auto-Tractor Fest.  Rain or shine.\nRegistration Fee $15\nCollecting Nonperishables for local Food Pantry at Registration\nRegistration 9 am-12pm\nCash Drawings til 3pm for registered participants\n50/50 Door Prize\nDash plaques for all entries\nOld School Band and DJ “Big Elvis”\nConcessions\nFor more information contact:  618-926-4565   cbcrick59@yahoo\,com
URL:https://southernmostillinois.com/event/memory-lane-auto-tractor-fest/
END:VEVENT
BEGIN:VEVENT
DTSTART;TZID=America/Chicago:20250906T080000
DTEND;TZID=America/Chicago:20250906T140000
DTSTAMP:20260423T063052
CREATED:20210813T151731Z
LAST-MODIFIED:20250714T162221Z
UID:9650-1757145600-1757167200@southernmostillinois.com
SUMMARY:Car Show - Karnak
DESCRIPTION:Car show\, music and food at Memorial Park\, Karnak. \nlevijames2008@gmail.com
URL:https://southernmostillinois.com/event/car-show-karnak/
END:VEVENT
BEGIN:VEVENT
DTSTART;TZID=UTC:20250906T180000
DTEND;TZID=UTC:20250906T200000
DTSTAMP:20260423T063052
CREATED:20200108T234336Z
LAST-MODIFIED:20250211T200226Z
UID:5714-1757181600-1757188800@southernmostillinois.com
SUMMARY:Mysterious Stone Fort Hike and Presentation-Giant City State Park
DESCRIPTION:Join Historian Mark Motsinger at the Giant City Stone Fort parking lot for an on-site lecture concerning the history and mystery that surrounds one of the 11 stone forts located in southern Illinois. Please call 618-457-4836 to register.
URL:https://southernmostillinois.com/event/stone-fort/
LOCATION:Giant City Visitor center\, 235 Giant City Road\, Makanda\, IL\, 62958
END:VEVENT
BEGIN:VEVENT
DTSTART;TZID=America/Chicago:20250906T180000
DTEND;TZID=America/Chicago:20250906T210000
DTSTAMP:20260423T063052
CREATED:20240626T173922Z
LAST-MODIFIED:20250731T183133Z
UID:16749-1757181600-1757192400@southernmostillinois.com
SUMMARY:Off the Rails Concert - Carbondale
DESCRIPTION:Join us at the Downtown Entertainment and Events Plaza for free outdoor concerts\, running August through October\, featuring local and regional entertainers. We are pleased to share that construction will be undergoing during this time to implement the new permanent stage within the Downtown Entertainment and Events Plaza\, but this will not impede upon the concerts occurring this year in this space.\nThis family-friendly series\, open to all ages\, features food trucks & vendors as well as music. \nDowntown Entertainment & Events Plaza on Washington Street\, with music from 6-9 PM. As we are undergoing construction of our permanent venue within the Downtown Entertainment & Events Plaza\, a portable stage will be on the South end of the parking lot.   Remember to bring your own chair and enjoy the food trucks and vendors as you take in the music and lively atmosphere. To learn more stay tuned to the Carbondale IL Tourism FaceBook page for more details!\nFor more information contact Public Relations Officer at 618-713-0711.
URL:https://southernmostillinois.com/event/concert/
END:VEVENT
BEGIN:VEVENT
DTSTART;VALUE=DATE:20250913
DTEND;VALUE=DATE:20250914
DTSTAMP:20260423T063052
CREATED:20230928T205003Z
LAST-MODIFIED:20250731T182153Z
UID:9823-1757721600-1757807999@southernmostillinois.com
SUMMARY:Popcorn Day - Ridgway\, IL.
DESCRIPTION:Live entertainment\, vendors\, amusement rides\, games\, and lots of free popcorn! \nPopcorn Day celebration is the second weekend in September every year. During this weekend we have live entertainment\, vendors\, amusement rides\, games\, free popcorn\, and the big parade on Saturday at 1:00 pm. \nRidgway is also home to the unique family owned business\, Dinger Bats. Here\, the first wooden bat company in Illinois crafts wooden baseball bats for players at every stage of the game from little league to the Major League. Website is www.dingerbats.com. Tours can be arranged with Kyle Drone at (618)841-1259. \n  \n  \n  \n 
URL:https://southernmostillinois.com/event/ridgway-il/
END:VEVENT
BEGIN:VEVENT
DTSTART;TZID=America/Chicago:20250913T130000
DTEND;TZID=America/Chicago:20250914T170000
DTSTAMP:20260423T063052
CREATED:20240705T150659Z
LAST-MODIFIED:20250410T164133Z
UID:9607-1757768400-1757869200@southernmostillinois.com
SUMMARY:Farm Crawl
DESCRIPTION:The Farm Crawl is an excellent opportunity for families and friends to meet farmers\, see demos\, and take tours of local farms in southern Illinois.\nEvery year the Co-op works with local farmers to create this unique event that is fun and educational for all ages. Farmers will share the history of their farms\, talk about crops\, livestock\, and the unique ups and downs in farming.\nThis kind of interaction gives tremendous insight into the region’s agriculture and the food supply in our area. You don’t need to be a farmer to enjoy this crawl! So come out\, see the sights\, and learn about the diverse landscape of farming that southern Illinois has to offer!!\nSingle or multi-day car passes will be available for purchase online starting in late July at https://www.neighborhood.coop/farm-crawl and in-store. This event is a self-guided tour. Your pass will give access to farms on the crawl for the region and exclusive event materials. \nhttps://www.facebook.com/events/1007795724783868
URL:https://southernmostillinois.com/event/farm-crawl/
END:VEVENT
BEGIN:VEVENT
DTSTART;TZID=America/Chicago:20250913T160000
DTEND;TZID=America/Chicago:20250913T200000
DTSTAMP:20260423T063052
CREATED:20220928T170305Z
LAST-MODIFIED:20250818T211332Z
UID:12330-1757779200-1757793600@southernmostillinois.com
SUMMARY:Fast and Furriest Car Show  - Metropolis
DESCRIPTION:All Makes & Models Car Cruise on Superman Square and Market Street — a fun-filled evening benefiting Project Hope Humane Society!\n? Cool cars\, great vibes\, and paws-itively awesome fun!\nCruise through a showcase of classic rides\, custom builds\, and unique wheels — all for a great cause. \n\nCome on out. Bring the family.
URL:https://southernmostillinois.com/event/metropolis-3/
END:VEVENT
BEGIN:VEVENT
DTSTART;TZID=UTC:20250913T163000
DTEND;TZID=UTC:20250913T180000
DTSTAMP:20260423T063052
CREATED:20240109T002013Z
LAST-MODIFIED:20250731T180917Z
UID:5787-1757781000-1757786400@southernmostillinois.com
SUMMARY:Constitution Day Celebration - Jonesboro
DESCRIPTION:At the Lincoln Memorial Park (Lincoln/Douglas Debate Site)\, 521 N Main St\, Jonesboro\, IL.  Everyone is invited and it is Free! \nKids Activities Games/Crafts 4:30-5:30 pm – Join the Hoop Rolling Race\, Make Jacobs Ladder/Whirligigs and more! \nConstitution Week Celebration – 4:30 pm Games and arts & crafts\, 5:30 pm Brief Ceremony at the Lincoln Memorial Park in Jonesboro\, Illinois (Lincoln/Douglas Debate Site). \nØ The day will kick-off with Kids’ Activities from 4:30 to 5:30 pm. Everyone is invited to come make a Jacob’s ladder or a Whirligig or Cup-n-Ball game or marbles. Use your skills to win in the Rolling Hoop race or the Three Legged race or Sack race. Pull your team together for a Tug of War. At 5:30 pm a brief Ceremony will begin. \nØ Bring a lawn chair and a bell to ring.
URL:https://southernmostillinois.com/event/constitution-day-celebration/
END:VEVENT
END:VCALENDAR